BEGIN:VCALENDAR
VERSION:2.0
METHOD:PUBLISH
X-WR-CALNAME:Brick.ie |  June 20 2026- July 20 2026
PRODID:-//strange bird labs//Drupal iCal API//EN
BEGIN:VEVENT
DTSTAMP;VALUE=DATE-TIME:20260423T172840Z
DTSTART;VALUE=DATE-TIME:20260620T080000Z
DTEND;VALUE=DATE-TIME:20260621T170000Z
UID:https://temp.brick.ie/event/cork-summer-show-0
URL;VALUE=URI:https://temp.brick.ie/event/cork-summer-show-0
SUMMARY:Cork Summer Show
DESCRIPTION: <p>As in previous years brick.ie has been invited to the Cork Summer Show this coming June. We'll be there with a selection of custom models and an interactive LEGO activity or two.</p> 
END:VEVENT
BEGIN:VEVENT
DTSTAMP;VALUE=DATE-TIME:20260423T172840Z
DTSTART;VALUE=DATE-TIME:20260620T103000Z
DTEND;VALUE=DATE-TIME:20260620T130000Z
UID:https://temp.brick.ie/event/june-monthly-meeting-0
URL;VALUE=URI:https://temp.brick.ie/event/june-monthly-meeting-0
SUMMARY:June Monthly Meeting
DESCRIPTION: <p>The June Monthly Meeting is scheduled for Saturday the 20th. Join us for a chat about Lego\, Portugal and other important things.<br />
 From 11\:30 to about 2-ish we'll be in Neary's\, around the corner from the LEGO Store on Grafton Street that some of us will likely visit at some point.</p> 
END:VEVENT
BEGIN:VEVENT
DTSTAMP;VALUE=DATE-TIME:20260423T172840Z
DTSTART;VALUE=DATE-TIME:20260711T090000Z
DTEND;VALUE=DATE-TIME:20260712T160000Z
UID:https://temp.brick.ie/event/brick-f%C3%A9ile-2026
URL;VALUE=URI:https://temp.brick.ie/event/brick-f%C3%A9ile-2026
SUMMARY:Brick Féile 2026
DESCRIPTION: <p>Ireland's premier event for LEGO fans returns in 2026 to CityNorth Hotel\, approx. 15 minutes from Dublin Airport.</p>
 
 <p>In addition to fantastic new creations from the brick.ie team\, the 2026 show promises lots of interactivity with giant brick pits\, a new Fairy Bricks mosaic\, puzzles\, mini-mosaic challenge and more to be announced closer to the event.</p>
 
 <p>Mark your calendars for 11 and 12 July 2026.</p> 
END:VEVENT
END:VCALENDAR
